BEGIN:VCALENDAR
VERSION:2.0
PRODID:-//wp-events-plugin.com//7.2.3.1//EN
TZID:Europe/Berlin
X-WR-TIMEZONE:Europe/Berlin
BEGIN:VEVENT
UID:89@theaterverein-diedorf.de
DTSTART;TZID=Europe/Berlin;VALUE=DATE:20250711
DTEND;TZID=Europe/Berlin;VALUE=DATE:20250714
DTSTAMP:20250520T091118Z
URL:https://www.theaterverein-diedorf.de/veranstaltungen/50-jahre-musikver
 ein-diedorf/
SUMMARY:50 Jahre Musikverein Diedorf
DESCRIPTION:
CATEGORIES:Ausflug
LOCATION:Festplatz Diedorf\, Bahnhofstraße\, Diedorf\, 86420\, Deutschland
X-APPLE-STRUCTURED-LOCATION;VALUE=URI;X-ADDRESS=Bahnhofstraße\, Diedorf\, 
 86420\, Deutschland;X-APPLE-RADIUS=100;X-TITLE=Festplatz Diedorf:geo:0,0
END:VEVENT
BEGIN:VTIMEZONE
TZID:Europe/Berlin
X-LIC-LOCATION:Europe/Berlin
BEGIN:DAYLIGHT
DTSTART:20250330T030000
TZOFFSETFROM:+0100
TZOFFSETTO:+0200
TZNAME:CEST
END:DAYLIGHT
END:VTIMEZONE
END:VCALENDAR