BEGIN:VCALENDAR
VERSION:2.0
PRODID:-//wp-events-plugin.com//7.2.3.1//EN
TZID:Europe/Berlin
X-WR-TIMEZONE:Europe/Berlin
BEGIN:VEVENT
UID:11@theaterverein-diedorf.de
DTSTART;TZID=Europe/Berlin;VALUE=DATE:20180727
DTEND;TZID=Europe/Berlin;VALUE=DATE:20180728
DTSTAMP:20180217T222947Z
URL:https://www.theaterverein-diedorf.de/veranstaltungen/evtl-fahrt-nach-d
 onauwoerth/
SUMMARY:Evtl. Fahrt nach Donauwörth
DESCRIPTION:
CATEGORIES:Ausflug
END:VEVENT
BEGIN:VTIMEZONE
TZID:Europe/Berlin
X-LIC-LOCATION:Europe/Berlin
BEGIN:DAYLIGHT
DTSTART:20180325T030000
TZOFFSETFROM:+0100
TZOFFSETTO:+0200
TZNAME:CEST
END:DAYLIGHT
END:VTIMEZONE
END:VCALENDAR