BEGIN:VCALENDAR
VERSION:2.0
PRODID:-//wp-events-plugin.com//7.2.3.1//EN
TZID:Europe/Berlin
X-WR-TIMEZONE:Europe/Berlin
BEGIN:VEVENT
UID:73@theaterverein-diedorf.de
DTSTART;TZID=Europe/Berlin:20240726T170000
DTEND;TZID=Europe/Berlin:20240726T230000
DTSTAMP:20240507T084904Z
URL:https://www.theaterverein-diedorf.de/veranstaltungen/fahrt-nach-donauw
 oerth/
SUMMARY:Fahrt nach Donauwörth
DESCRIPTION:Freilichtbühne
CATEGORIES:Ausflug
LOCATION:Freilichtbühne am Mangoldfelsen - Donauwörth\, Brabanter Weg\, D
 onauwörth\, 86609 \, Deutschland
X-APPLE-STRUCTURED-LOCATION;VALUE=URI;X-ADDRESS=Brabanter Weg\, Donauwörth
 \, 86609 \, Deutschland;X-APPLE-RADIUS=100;X-TITLE=Freilichtbühne am Mang
 oldfelsen - Donauwörth:geo:0,0
END:VEVENT
BEGIN:VTIMEZONE
TZID:Europe/Berlin
X-LIC-LOCATION:Europe/Berlin
BEGIN:DAYLIGHT
DTSTART:20240331T030000
TZOFFSETFROM:+0100
TZOFFSETTO:+0200
TZNAME:CEST
END:DAYLIGHT
END:VTIMEZONE
END:VCALENDAR