BEGIN:VCALENDAR
VERSION:2.0
PRODID:-//wp-events-plugin.com//7.2.3.1//EN
TZID:Europe/Berlin
X-WR-TIMEZONE:Europe/Berlin
BEGIN:VEVENT
UID:80@theaterverein-diedorf.de
DTSTART;TZID=Europe/Berlin:20241103T170000
DTEND;TZID=Europe/Berlin:20241103T200000
DTSTAMP:20241017T143054Z
URL:https://www.theaterverein-diedorf.de/veranstaltungen/herbsttheater-2/
SUMMARY:Herbsttheater 2024
DESCRIPTION:Der Austragsschwindel\nKomödie in vier Akten von Peter Landst
 örzer\n\n\nDer Gemüsebauer Karl Ackermayr sen. hat in seinem Testament l
 istig dafür gesorgt\, dass seine Frau\, die „Moidl Mam“\, auf jeden F
 all noch fünf Jahre nach seinem Tod einen „nobligen“ Austrag genieße
 n kann. Nachdem nun vier Jahre vergangen sind\, möchte Moidl Mam das letz
 te Jahr in besonderer Weise genießen und schmiedet zusammen mit ihrem Dok
 tor und Vertrauten Thomas Dudlhofer einen „gesegneten“ Plan\, den „A
 ustrags-Schwindel“\, der den Rest der Familie buchstäblich in den Wahns
 inn treibt...\n\n
CATEGORIES:Theater
LOCATION:Gaststätte Adler (Fam. Fendt)\, Hauptstraße 31\, Diedorf\, 86420
 \, Deutschland
X-APPLE-STRUCTURED-LOCATION;VALUE=URI;X-ADDRESS=Hauptstraße 31\, Diedorf\,
  86420\, Deutschland;X-APPLE-RADIUS=100;X-TITLE=Gaststätte Adler (Fam. Fe
 ndt):geo:0,0
END:VEVENT
BEGIN:VTIMEZONE
TZID:Europe/Berlin
X-LIC-LOCATION:Europe/Berlin
BEGIN:STANDARD
DTSTART:20241027T020000
TZOFFSETFROM:+0200
TZOFFSETTO:+0100
TZNAME:CET
END:STANDARD
END:VTIMEZONE
END:VCALENDAR