BEGIN:VCALENDAR
VERSION:2.0
PRODID:-//wp-events-plugin.com//7.2.3.1//EN
TZID:Europe/Berlin
X-WR-TIMEZONE:Europe/Berlin
BEGIN:VEVENT
UID:28@theaterverein-diedorf.de
DTSTART;TZID=Europe/Berlin:20191115T200000
DTEND;TZID=Europe/Berlin:20191115T230000
DTSTAMP:20190808T134729Z
URL:https://www.theaterverein-diedorf.de/veranstaltungen/herbsttheater-201
 9-11-15/
SUMMARY:Herbsttheater
DESCRIPTION:Eintritt: € 6\,--\n„Im Pfarrhaus is da Deife los“\nEine b
 ayerische Komödie in drei Akten von Sebastian Kolb und Markus Schebele\n\
 nInhalt:&nbsp\;\n„Der stockkonservative Pfarrer Bürstel ist gegen alles
  Moderne und jegliche Neuerungen. Er eifert stets seinem alten Mentor\, de
 m Pfarrer Ackermann nach\, der seine Gottesdienste noch wie im Mittelalter
  von der Kanzel herunter predigt und dabei selten ein gutes Haar an seinen
  Schäfchen lässt. Als sich Bürstel bei einem Treppensturz das Bein bric
 ht und nun seinen Pflichten als Pfarrer vorübergehend nicht nachkommen ka
 nn\, bittet er beim Ordinariat um einen Vertreter und hofft dabei auf Acke
 rmann. Doch als der Aushilfspfarrer eintrifft\, erlebt Bürstel eine gewal
 tige Überraschung…“
CATEGORIES:Theater
LOCATION:Gaststätte Adler (Fam. Fendt)\, Hauptstraße 31\, Diedorf\, 86420
 \, Deutschland
X-APPLE-STRUCTURED-LOCATION;VALUE=URI;X-ADDRESS=Hauptstraße 31\, Diedorf\,
  86420\, Deutschland;X-APPLE-RADIUS=100;X-TITLE=Gaststätte Adler (Fam. Fe
 ndt):geo:0,0
END:VEVENT
BEGIN:VTIMEZONE
TZID:Europe/Berlin
X-LIC-LOCATION:Europe/Berlin
BEGIN:STANDARD
DTSTART:20191027T020000
TZOFFSETFROM:+0200
TZOFFSETTO:+0100
TZNAME:CET
END:STANDARD
END:VTIMEZONE
END:VCALENDAR