BEGIN:VCALENDAR
VERSION:2.0
PRODID:-//wp-events-plugin.com//7.2.3.1//EN
TZID:Europe/Berlin
X-WR-TIMEZONE:Europe/Berlin
BEGIN:VEVENT
UID:58@theaterverein-diedorf.de
DTSTART;TZID=Europe/Berlin:20221113T170000
DTEND;TZID=Europe/Berlin:20221113T193000
DTSTAMP:20221105T114842Z
URL:https://www.theaterverein-diedorf.de/veranstaltungen/herbsttheater-202
 2-2022-11-13/
SUMMARY:Herbsttheater 2022
DESCRIPTION:Schwank in drei Akten von Ralph Wallner\n\nDer sympathische Bas
 ti und die lustige Fini verdienen sich als kleine Schmuggler in den Bergen
  ihr spärliches Einkommen. Sie schaffen immer wieder Ware für den zwieli
 chtigen Bockerer über die Grenze. Die alte und längst verlassene Jägerh
 ütte im Wald dient dabei als Unterschlupf\, Zwischenlager und Tauschverst
 eck. Doch auch andere Leute nutzen diese Hütte für ihre kleinen Gaunerei
 en. Als eine größere Menge Geld verschwindet\, liegen die Nerven blank u
 nd es kommt zu einem dramatischen Zwischenfall …
CATEGORIES:Theater
LOCATION:Gaststätte Adler (Fam. Fendt)\, Hauptstraße 31\, Diedorf\, 86420
 \, Deutschland
X-APPLE-STRUCTURED-LOCATION;VALUE=URI;X-ADDRESS=Hauptstraße 31\, Diedorf\,
  86420\, Deutschland;X-APPLE-RADIUS=100;X-TITLE=Gaststätte Adler (Fam. Fe
 ndt):geo:0,0
END:VEVENT
BEGIN:VTIMEZONE
TZID:Europe/Berlin
X-LIC-LOCATION:Europe/Berlin
BEGIN:STANDARD
DTSTART:20221030T020000
TZOFFSETFROM:+0200
TZOFFSETTO:+0100
TZNAME:CET
END:STANDARD
END:VTIMEZONE
END:VCALENDAR