BEGIN:VCALENDAR
VERSION:2.0
PRODID:-//wp-events-plugin.com//7.2.3.1//EN
TZID:Europe/Berlin
X-WR-TIMEZONE:Europe/Berlin
BEGIN:VEVENT
UID:24@theaterverein-diedorf.de
DTSTART;TZID=Europe/Berlin:20190607T200000
DTEND;TZID=Europe/Berlin:20190607T220000
DTSTAMP:20190508T131540Z
URL:https://www.theaterverein-diedorf.de/veranstaltungen/jahreshauptversam
 mlung-2/
SUMMARY:Jahreshauptversammlung
DESCRIPTION:
CATEGORIES:Versammlung
LOCATION:Zimmerstutzenschützen-Gesellschaft e.V. (Schützenheim Diedorf)\,
  Lindenstraße 11\, Diedorf\, 86420\, Deutschland
GEO:48.3557737;10.784056899999996
X-APPLE-STRUCTURED-LOCATION;VALUE=URI;X-ADDRESS=Lindenstraße 11\, Diedorf\
 , 86420\, Deutschland;X-APPLE-RADIUS=100;X-TITLE=Zimmerstutzenschützen-Ge
 sellschaft e.V. (Schützenheim Diedorf):geo:48.3557737,10.784056899999996
END:VEVENT
BEGIN:VTIMEZONE
TZID:Europe/Berlin
X-LIC-LOCATION:Europe/Berlin
BEGIN:DAYLIGHT
DTSTART:20190331T030000
TZOFFSETFROM:+0100
TZOFFSETTO:+0200
TZNAME:CEST
END:DAYLIGHT
END:VTIMEZONE
END:VCALENDAR