BEGIN:VCALENDAR
VERSION:2.0
PRODID:-//wp-events-plugin.com//7.2.3.1//EN
TZID:Europe/Berlin
X-WR-TIMEZONE:Europe/Berlin
BEGIN:VEVENT
UID:70@theaterverein-diedorf.de
DTSTART;TZID=Europe/Berlin:20230922T193000
DTEND;TZID=Europe/Berlin:20230922T220000
DTSTAMP:20230904T210948Z
URL:https://www.theaterverein-diedorf.de/veranstaltungen/jahreshauptversam
 mlung-2023/
SUMMARY:Jahreshauptversammlung 2023
DESCRIPTION:Tagesordnung:\n\nTOP 1 Begrüßung und Eröffnung der Versammlu
 ng\n\nTOP 2 Tätigkeitsberichte:\n\n 	Vorstand\n 	Theaterleiter\n 	Kassenb
 ericht\n 	Bericht zur Kassenprüfung\n\nTOP 3 Entlastung der Vorstandschaf
 t / Kassierer\n\nTOP 4 Anträge und Verschiedenes\n\nAnträge sind mind. 1
  Woche vor der Versammlung schriftlich o. mündlich beim 1. Vorstand einzu
 reichen.
CATEGORIES:Versammlung
LOCATION:Gaststätte Adler (Fam. Fendt)\, Hauptstraße 31\, Diedorf\, 86420
 \, Deutschland
X-APPLE-STRUCTURED-LOCATION;VALUE=URI;X-ADDRESS=Hauptstraße 31\, Diedorf\,
  86420\, Deutschland;X-APPLE-RADIUS=100;X-TITLE=Gaststätte Adler (Fam. Fe
 ndt):geo:0,0
END:VEVENT
BEGIN:VTIMEZONE
TZID:Europe/Berlin
X-LIC-LOCATION:Europe/Berlin
BEGIN:DAYLIGHT
DTSTART:20230326T030000
TZOFFSETFROM:+0100
TZOFFSETTO:+0200
TZNAME:CEST
END:DAYLIGHT
END:VTIMEZONE
END:VCALENDAR