BEGIN:VCALENDAR
VERSION:2.0
PRODID:-//wp-events-plugin.com//7.2.3.1//EN
TZID:Europe/Berlin
X-WR-TIMEZONE:Europe/Berlin
BEGIN:VEVENT
UID:77@theaterverein-diedorf.de
DTSTART;TZID=Europe/Berlin:20241018T193000
DTEND;TZID=Europe/Berlin:20241018T213000
DTSTAMP:20241008T120016Z
URL:https://www.theaterverein-diedorf.de/veranstaltungen/jahreshauptversam
 mlung-3/
SUMMARY:Jahreshauptversammlung
DESCRIPTION:Theaterverein Diedorf e.V.\nEinladung zur Jahreshauptversammlun
 g\nVerehrte Mitglieder\,\n\nZur Jahreshauptversammlung am Freitag\, 18. Ok
 tober 2024\, um 19:30 Uhr in der Gaststätte Fendt ergeht hiermit herzlich
 e Einladung.\nTagesordnung:\n\n 	TOP 1: Begrüßung und Eröffnung der Ver
 sammlung\n 	TOP 2: Tätigkeitsberichte\n\n 	Vorstand\n 	Theaterleiter\n 	K
 assenbericht\n 	Bericht zur Kassenprüfung\n\n\n 	TOP 3: Entlastung der Vo
 rstandschaft / Kassierer\n 	TOP 4: Neuwahlen\n 	TOP 5: Anträge und Versch
 iedenes\n\nAnträge sind mindestens 1 Woche vor der Versammlung schriftlic
 h oder mündlich beim 1. Vorstand einzureichen.\n\ngez. Thomas Wetzel\n1. 
 Vorstand
CATEGORIES:Versammlung
LOCATION:Gaststätte Adler (Fam. Fendt)\, Hauptstraße 31\, Diedorf\, 86420
 \, Deutschland
X-APPLE-STRUCTURED-LOCATION;VALUE=URI;X-ADDRESS=Hauptstraße 31\, Diedorf\,
  86420\, Deutschland;X-APPLE-RADIUS=100;X-TITLE=Gaststätte Adler (Fam. Fe
 ndt):geo:0,0
END:VEVENT
BEGIN:VTIMEZONE
TZID:Europe/Berlin
X-LIC-LOCATION:Europe/Berlin
BEGIN:DAYLIGHT
DTSTART:20240331T030000
TZOFFSETFROM:+0100
TZOFFSETTO:+0200
TZNAME:CEST
END:DAYLIGHT
END:VTIMEZONE
END:VCALENDAR