BEGIN:VCALENDAR
VERSION:2.0
PRODID:-//wp-events-plugin.com//7.2.3.1//EN
TZID:Europe/Berlin
X-WR-TIMEZONE:Europe/Berlin
BEGIN:VEVENT
UID:88@theaterverein-diedorf.de
DTSTART;TZID=Europe/Berlin:20250623T193000
DTEND;TZID=Europe/Berlin:20250623T213000
DTSTAMP:20250520T090509Z
URL:https://www.theaterverein-diedorf.de/veranstaltungen/jahreshauptversam
 mlung-4/
SUMMARY:Jahreshauptversammlung
DESCRIPTION:
CATEGORIES:Versammlung
LOCATION:Gaststätte Adler (Fam. Fendt)\, Hauptstraße 31\, Diedorf\, 86420
 \, Deutschland
X-APPLE-STRUCTURED-LOCATION;VALUE=URI;X-ADDRESS=Hauptstraße 31\, Diedorf\,
  86420\, Deutschland;X-APPLE-RADIUS=100;X-TITLE=Gaststätte Adler (Fam. Fe
 ndt):geo:0,0
END:VEVENT
BEGIN:VTIMEZONE
TZID:Europe/Berlin
X-LIC-LOCATION:Europe/Berlin
BEGIN:DAYLIGHT
DTSTART:20250330T030000
TZOFFSETFROM:+0100
TZOFFSETTO:+0200
TZNAME:CEST
END:DAYLIGHT
END:VTIMEZONE
END:VCALENDAR