BEGIN:VCALENDAR
VERSION:2.0
PRODID:-//wp-events-plugin.com//7.2.3.1//EN
TZID:Europe/Berlin
X-WR-TIMEZONE:Europe/Berlin
BEGIN:VEVENT
UID:1@theaterverein-diedorf.de
DTSTART;TZID=Europe/Berlin:20180204T140000
DTEND;TZID=Europe/Berlin:20180204T170000
DTSTAMP:20180114T200702Z
URL:https://www.theaterverein-diedorf.de/veranstaltungen/kinderball-2018/
SUMMARY:Kinderball 2018
DESCRIPTION:\n\nKartenvorverkauf:\nSiggi Erdle\nTel.: 08238-902281\nFax: 08
 238-5625\ne-mail: siggi1808@aol.com
ATTACH;FMTTYPE=image/jpeg:https://www.theaterverein-diedorf.de/wp-content/
 uploads/2018/01/Kinderball_2018.jpg
CATEGORIES:Kinderball
LOCATION:Gaststätte Eisernes Kreuz (Millerwirt)\, Hauptstraße 21\, Diedor
 f\, 86420\, Deutschland
GEO:48.354980;10.778519
X-APPLE-STRUCTURED-LOCATION;VALUE=URI;X-ADDRESS=Hauptstraße 21\, Diedorf\,
  86420\, Deutschland;X-APPLE-RADIUS=100;X-TITLE=Gaststätte Eisernes Kreuz
  (Millerwirt):geo:48.354980,10.778519
END:VEVENT
BEGIN:VTIMEZONE
TZID:Europe/Berlin
X-LIC-LOCATION:Europe/Berlin
BEGIN:STANDARD
DTSTART:20171029T020000
TZOFFSETFROM:+0200
TZOFFSETTO:+0100
TZNAME:CET
END:STANDARD
END:VTIMEZONE
END:VCALENDAR