BEGIN:VCALENDAR
VERSION:2.0
PRODID:-//wp-events-plugin.com//7.2.3.1//EN
TZID:Europe/Berlin
X-WR-TIMEZONE:Europe/Berlin
BEGIN:VEVENT
UID:23@theaterverein-diedorf.de
DTSTART;TZID=Europe/Berlin:20190224T140000
DTEND;TZID=Europe/Berlin:20190224T170000
DTSTAMP:20190119T111037Z
URL:https://www.theaterverein-diedorf.de/veranstaltungen/kinderball-2019/
SUMMARY:Kinderball 2019
DESCRIPTION:
CATEGORIES:Kinderball
LOCATION:Gaststätte Eisernes Kreuz (Millerwirt)\, Hauptstraße 21\, Diedor
 f\, 86420\, Deutschland
GEO:48.354980;10.778519
X-APPLE-STRUCTURED-LOCATION;VALUE=URI;X-ADDRESS=Hauptstraße 21\, Diedorf\,
  86420\, Deutschland;X-APPLE-RADIUS=100;X-TITLE=Gaststätte Eisernes Kreuz
  (Millerwirt):geo:48.354980,10.778519
END:VEVENT
BEGIN:VTIMEZONE
TZID:Europe/Berlin
X-LIC-LOCATION:Europe/Berlin
BEGIN:STANDARD
DTSTART:20181028T020000
TZOFFSETFROM:+0200
TZOFFSETTO:+0100
TZNAME:CET
END:STANDARD
END:VTIMEZONE
END:VCALENDAR