BEGIN:VCALENDAR
VERSION:2.0
PRODID:-//wp-events-plugin.com//7.2.3.1//EN
TZID:Europe/Berlin
X-WR-TIMEZONE:Europe/Berlin
BEGIN:VEVENT
UID:20@theaterverein-diedorf.de
DTSTART;TZID=Europe/Berlin:20180415T143000
DTEND;TZID=Europe/Berlin:20180415T170000
DTSTAMP:20180217T222837Z
URL:https://www.theaterverein-diedorf.de/veranstaltungen/kindertheater-201
 8-schneewittchen-2018-04-15/
SUMMARY:Kindertheater 2018 "Schneewittchen"
DESCRIPTION:Eintritt: € 4\,--\n\nKartenvorverkauf:\nSiggi Erdle\, Hauptst
 rasse 2c\; 86420 Diedorf\nTel.: 08238-2460\nFax: 08238-5625\nE-Mail: siggi
 1808@aol.com\nE-Mail: info@gtv-diedorf.de
CATEGORIES:Kindertheater
LOCATION:Gaststätte Eisernes Kreuz (Millerwirt)\, Hauptstraße 21\, Diedor
 f\, 86420\, Deutschland
GEO:48.354980;10.778519
X-APPLE-STRUCTURED-LOCATION;VALUE=URI;X-ADDRESS=Hauptstraße 21\, Diedorf\,
  86420\, Deutschland;X-APPLE-RADIUS=100;X-TITLE=Gaststätte Eisernes Kreuz
  (Millerwirt):geo:48.354980,10.778519
END:VEVENT
BEGIN:VTIMEZONE
TZID:Europe/Berlin
X-LIC-LOCATION:Europe/Berlin
BEGIN:DAYLIGHT
DTSTART:20180325T030000
TZOFFSETFROM:+0100
TZOFFSETTO:+0200
TZNAME:CEST
END:DAYLIGHT
END:VTIMEZONE
END:VCALENDAR