BEGIN:VCALENDAR
VERSION:2.0
PRODID:-//wp-events-plugin.com//7.2.3.1//EN
TZID:Europe/Berlin
X-WR-TIMEZONE:Europe/Berlin
BEGIN:VEVENT
UID:10@theaterverein-diedorf.de
DTSTART;TZID=Europe/Berlin:20180709T200000
DTEND;TZID=Europe/Berlin:20180709T220000
DTSTAMP:20180213T210908Z
URL:https://www.theaterverein-diedorf.de/veranstaltungen/stammtisch-u-lese
 probe/
SUMMARY:Stammtisch u. Leseprobe
DESCRIPTION:
CATEGORIES:Versammlung
LOCATION:Gaststätte Eisernes Kreuz (Millerwirt)\, Hauptstraße 21\, Diedor
 f\, 86420\, Deutschland
GEO:48.354980;10.778519
X-APPLE-STRUCTURED-LOCATION;VALUE=URI;X-ADDRESS=Hauptstraße 21\, Diedorf\,
  86420\, Deutschland;X-APPLE-RADIUS=100;X-TITLE=Gaststätte Eisernes Kreuz
  (Millerwirt):geo:48.354980,10.778519
END:VEVENT
BEGIN:VTIMEZONE
TZID:Europe/Berlin
X-LIC-LOCATION:Europe/Berlin
BEGIN:DAYLIGHT
DTSTART:20180325T030000
TZOFFSETFROM:+0100
TZOFFSETTO:+0200
TZNAME:CEST
END:DAYLIGHT
END:VTIMEZONE
END:VCALENDAR