BEGIN:VCALENDAR
VERSION:2.0
PRODID:-//wp-events-plugin.com//7.2.3.1//EN
TZID:Europe/Berlin
X-WR-TIMEZONE:Europe/Berlin
BEGIN:VEVENT
UID:74@theaterverein-diedorf.de
DTSTART;TZID=Europe/Berlin:20240901T200000
DTEND;TZID=Europe/Berlin:20240901T220000
DTSTAMP:20240507T084923Z
URL:https://www.theaterverein-diedorf.de/veranstaltungen/vorstandschaftssi
 tzung/
SUMMARY:Vorstandschaftssitzung
DESCRIPTION:
CATEGORIES:Versammlung
LOCATION:Gaststätte Adler (Fam. Fendt)\, Hauptstraße 31\, Diedorf\, 86420
 \, Deutschland
X-APPLE-STRUCTURED-LOCATION;VALUE=URI;X-ADDRESS=Hauptstraße 31\, Diedorf\,
  86420\, Deutschland;X-APPLE-RADIUS=100;X-TITLE=Gaststätte Adler (Fam. Fe
 ndt):geo:0,0
END:VEVENT
BEGIN:VTIMEZONE
TZID:Europe/Berlin
X-LIC-LOCATION:Europe/Berlin
BEGIN:DAYLIGHT
DTSTART:20240331T030000
TZOFFSETFROM:+0100
TZOFFSETTO:+0200
TZNAME:CEST
END:DAYLIGHT
END:VTIMEZONE
END:VCALENDAR